BEGIN:VCALENDAR
VERSION:2.0
PRODID:-//Fahrzeug-Initiative Rheinland-Pfalz e.V. - ECPv6.15.20//NONSGML v1.0//EN
CALSCALE:GREGORIAN
METHOD:PUBLISH
X-ORIGINAL-URL:https://fi-rlp.de
X-WR-CALDESC:Veranstaltungen für Fahrzeug-Initiative Rheinland-Pfalz e.V.
REFRESH-INTERVAL;VALUE=DURATION:PT1H
X-Robots-Tag:noindex
X-PUBLISHED-TTL:PT1H
BEGIN:VTIMEZONE
TZID:Europe/Berlin
BEGIN:DAYLIGHT
TZOFFSETFROM:+0100
TZOFFSETTO:+0200
TZNAME:CEST
DTSTART:20250330T010000
END:DAYLIGHT
BEGIN:STANDARD
TZOFFSETFROM:+0200
TZOFFSETTO:+0100
TZNAME:CET
DTSTART:20251026T010000
END:STANDARD
BEGIN:DAYLIGHT
TZOFFSETFROM:+0100
TZOFFSETTO:+0200
TZNAME:CEST
DTSTART:20260329T010000
END:DAYLIGHT
BEGIN:STANDARD
TZOFFSETFROM:+0200
TZOFFSETTO:+0100
TZNAME:CET
DTSTART:20261025T010000
END:STANDARD
BEGIN:DAYLIGHT
TZOFFSETFROM:+0100
TZOFFSETTO:+0200
TZNAME:CEST
DTSTART:20270328T010000
END:DAYLIGHT
BEGIN:STANDARD
TZOFFSETFROM:+0200
TZOFFSETTO:+0100
TZNAME:CET
DTSTART:20271031T010000
END:STANDARD
END:VTIMEZONE
BEGIN:VEVENT
DTSTART;TZID=Europe/Berlin:20260226T140000
DTEND;TZID=Europe/Berlin:20260226T170000
DTSTAMP:20260423T111103
CREATED:20260120T135331Z
LAST-MODIFIED:20260123T145814Z
UID:28501-1772114400-1772125200@fi-rlp.de
SUMMARY:FI-RLP: Digitalisierung und KI im Unternehmen
DESCRIPTION:Gemeinsam mit dem Wirtschaftsministerium Rheinland-Pfalz organisiert die Fahrzeug-Initiative Rheinland-Pfalz e.V. eine Veranstaltung zum Thema Digitalisierung und Einsatz von KI im Unternehmen. Wir haben Experten zu Gast\, die über Digitalisierungs- und KI Projekte in mittelständischen Betrieben berichten. Zudem werden wir über den rechtlichen Rahmen und die Risiken des Einsatzes von KI informieren und bekommen praxisbewährte Lösungsansätze. \n\n\n\nDie Veranstaltung findet im Rheinland-Pfalz Saal des Wirtschaftsministeriums in der Stiftstraße 9 in Mainz statt. \n\n\n\nAgenda:
URL:https://fi-rlp.de/event/save-the-date_fi-rlp-digitalisierung-und-ki-im-unternehmen/
END:VEVENT
END:VCALENDAR